BEGIN:VCALENDAR
VERSION:2.0
PRODID:spatie/icalendar-generator
DESCRIPTION:Veranstaltungen von SZN Grund- &amp;amp\; Gemeinschaftsschule
X-WR-CALDESC:Veranstaltungen von SZN Grund- &amp;amp\; Gemeinschaftsschule
REFRESH-INTERVAL;VALUE=DURATION:PT1440M
X-PUBLISHED-TTL:PT1440M
BEGIN:VTIMEZONE
TZID:Etc/GMT+0
BEGIN:STANDARD
DTSTART:20240510T000000Z
TZOFFSETFROM:+0000
TZOFFSETTO:+0000
END:STANDARD
END:VTIMEZONE
BEGIN:VTIMEZONE
TZID:UTC
BEGIN:STANDARD
DTSTART:20250726T084823Z
TZOFFSETFROM:+0000
TZOFFSETTO:+0000
END:STANDARD
END:VTIMEZONE
BEGIN:VEVENT
UID:170-148
DTSTAMP:20260422T084823Z
SUMMARY:Projekttage Schule ohne Rassismus / Schule mit Courage
LOCATION:
ORGANIZER;CN=Kristiana Kramer:MAILTO:Kristiana1@gmx.de
DTSTART;TZID=Etc/GMT+0;VALUE=DATE:20250204
DTEND;TZID=Etc/GMT+0;VALUE=DATE:20250206
X-ALT-DESC;FMTTYPE=TEXT/HTML:
CATEGORIES:General
URL;VALUE=URI:https://www.sznord.de/mc-events/projekttage-schule-ohne-rassi
 smus-schule-mit-courage/?mc_id=170
END:VEVENT
END:VCALENDAR