BEGIN:VCALENDAR
VERSION:2.0
PRODID:spatie/icalendar-generator
DESCRIPTION:Veranstaltungen von SZN Grund- &amp;amp\; Gemeinschaftsschule
X-WR-CALDESC:Veranstaltungen von SZN Grund- &amp;amp\; Gemeinschaftsschule
REFRESH-INTERVAL;VALUE=DURATION:PT1440M
X-PUBLISHED-TTL:PT1440M
BEGIN:VTIMEZONE
TZID:Etc/GMT+0
BEGIN:STANDARD
DTSTART:20250818T000000Z
TZOFFSETFROM:+0000
TZOFFSETTO:+0000
END:STANDARD
END:VTIMEZONE
BEGIN:VTIMEZONE
TZID:UTC
BEGIN:STANDARD
DTSTART:20250726T101423Z
TZOFFSETFROM:+0000
TZOFFSETTO:+0000
END:STANDARD
END:VTIMEZONE
BEGIN:VEVENT
UID:278-236
DTSTAMP:20260422T101423Z
SUMMARY:Ferientag
LOCATION:
ORGANIZER;CN=Kristiana Kramer:MAILTO:Kristiana1@gmx.de
DTSTART;TZID=Etc/GMT+0;VALUE=DATE:20260515
DTEND;TZID=Etc/GMT+0;VALUE=DATE:20260516
X-ALT-DESC;FMTTYPE=TEXT/HTML:
CATEGORIES:Schulfrei
URL;VALUE=URI:https://www.sznord.de/mc-events/ferientag-2/?mc_id=278
END:VEVENT
END:VCALENDAR