BEGIN:VCALENDAR
VERSION:2.0
PRODID:spatie/icalendar-generator
DESCRIPTION:Veranstaltungen von SZN Grund- &amp;amp\; Gemeinschaftsschule
X-WR-CALDESC:Veranstaltungen von SZN Grund- &amp;amp\; Gemeinschaftsschule
REFRESH-INTERVAL;VALUE=DURATION:PT1440M
X-PUBLISHED-TTL:PT1440M
BEGIN:VTIMEZONE
TZID:Etc/GMT+0
BEGIN:STANDARD
DTSTART:20250829T000000Z
TZOFFSETFROM:+0000
TZOFFSETTO:+0000
END:STANDARD
END:VTIMEZONE
BEGIN:VTIMEZONE
TZID:UTC
BEGIN:STANDARD
DTSTART:20250726T104133Z
TZOFFSETFROM:+0000
TZOFFSETTO:+0000
END:STANDARD
END:VTIMEZONE
BEGIN:VEVENT
UID:279-237
DTSTAMP:20260422T104133Z
SUMMARY:beweglicher Ferientag
LOCATION:
ORGANIZER;CN=Kristiana Kramer:MAILTO:Kristiana1@gmx.de
DTSTART;TZID=Etc/GMT+0;VALUE=DATE:20260526
DTEND;TZID=Etc/GMT+0;VALUE=DATE:20260527
X-ALT-DESC;FMTTYPE=TEXT/HTML:
CATEGORIES:Schulfrei
URL;VALUE=URI:https://www.sznord.de/mc-events/beweglicher-ferientag-3/?mc_i
 d=279
END:VEVENT
END:VCALENDAR