BEGIN:VCALENDAR
VERSION:2.0
PRODID:spatie/icalendar-generator
DESCRIPTION:Veranstaltungen von SZN Grund- &amp;amp\; Gemeinschaftsschule
X-WR-CALDESC:Veranstaltungen von SZN Grund- &amp;amp\; Gemeinschaftsschule
REFRESH-INTERVAL;VALUE=DURATION:PT1440M
X-PUBLISHED-TTL:PT1440M
BEGIN:VTIMEZONE
TZID:Etc/GMT+0
BEGIN:STANDARD
DTSTART:20250726T000000Z
TZOFFSETFROM:+0000
TZOFFSETTO:+0000
END:STANDARD
END:VTIMEZONE
BEGIN:VTIMEZONE
TZID:UTC
BEGIN:STANDARD
DTSTART:20250726T090136Z
TZOFFSETFROM:+0000
TZOFFSETTO:+0000
END:STANDARD
END:VTIMEZONE
BEGIN:VEVENT
UID:280-234
DTSTAMP:20260422T090136Z
SUMMARY:SET 3
LOCATION:
ORGANIZER;CN=Kristiana Kramer:MAILTO:Kristiana1@gmx.de
DTSTART;TZID=Etc/GMT+0;VALUE=DATE:20260422
DTEND;TZID=Etc/GMT+0;VALUE=DATE:20260423
X-ALT-DESC;FMTTYPE=TEXT/HTML:
CATEGORIES:Schulfrei
URL;VALUE=URI:https://www.sznord.de/mc-events/set-3-2/?mc_id=280
END:VEVENT
END:VCALENDAR